BEGIN:VCALENDAR
VERSION:2.0
PRODID:-//Florida Youth Soccer Association - ECPv6.15.17.1//NONSGML v1.0//EN
CALSCALE:GREGORIAN
METHOD:PUBLISH
X-WR-CALNAME:Florida Youth Soccer Association
X-ORIGINAL-URL:https://www.fysa.com
X-WR-CALDESC:Events for Florida Youth Soccer Association
REFRESH-INTERVAL;VALUE=DURATION:PT1H
X-Robots-Tag:noindex
X-PUBLISHED-TTL:PT1H
BEGIN:VTIMEZONE
TZID:America/New_York
BEGIN:DAYLIGHT
TZOFFSETFROM:-0500
TZOFFSETTO:-0400
TZNAME:EDT
DTSTART:20230312T070000
END:DAYLIGHT
BEGIN:STANDARD
TZOFFSETFROM:-0400
TZOFFSETTO:-0500
TZNAME:EST
DTSTART:20231105T060000
END:STANDARD
BEGIN:DAYLIGHT
TZOFFSETFROM:-0500
TZOFFSETTO:-0400
TZNAME:EDT
DTSTART:20240310T070000
END:DAYLIGHT
BEGIN:STANDARD
TZOFFSETFROM:-0400
TZOFFSETTO:-0500
TZNAME:EST
DTSTART:20241103T060000
END:STANDARD
BEGIN:DAYLIGHT
TZOFFSETFROM:-0500
TZOFFSETTO:-0400
TZNAME:EDT
DTSTART:20250309T070000
END:DAYLIGHT
BEGIN:STANDARD
TZOFFSETFROM:-0400
TZOFFSETTO:-0500
TZNAME:EST
DTSTART:20251102T060000
END:STANDARD
END:VTIMEZONE
BEGIN:VEVENT
DTSTART;VALUE=DATE:20240120
DTEND;VALUE=DATE:20240122
DTSTAMP:20260420T220037
CREATED:20240103T202719Z
LAST-MODIFIED:20240103T202738Z
UID:10000007-1705708800-1705881599@www.fysa.com
SUMMARY:ODP Pool Training (POOL PLAYERS ONLY) - (M/F\, 2007-2009)
DESCRIPTION:FIELDS\nHOTEL ACCOMMODATIONS
URL:https://www.fysa.com/event/odp-pool-training-pool-players-only-m-f-2007-2009/
LOCATION:Kelly Road Soccer Complex\, 10750 Kelly Rd\, Fort Myers\, FL\, 33908\, United States
END:VEVENT
END:VCALENDAR