BEGIN:VCALENDAR
VERSION:2.0
PRODID:-//Florida Youth Soccer Association - ECPv6.15.17.1//NONSGML v1.0//EN
CALSCALE:GREGORIAN
METHOD:PUBLISH
X-ORIGINAL-URL:https://www.fysa.com
X-WR-CALDESC:Events for Florida Youth Soccer Association
REFRESH-INTERVAL;VALUE=DURATION:PT1H
X-Robots-Tag:noindex
X-PUBLISHED-TTL:PT1H
BEGIN:VTIMEZONE
TZID:UTC
BEGIN:STANDARD
TZOFFSETFROM:+0000
TZOFFSETTO:+0000
TZNAME:UTC
DTSTART:20230101T000000
END:STANDARD
END:VTIMEZONE
BEGIN:VEVENT
DTSTART;VALUE=DATE:20240217
DTEND;VALUE=DATE:20240219
DTSTAMP:20260422T141511
CREATED:20240131T154254Z
LAST-MODIFIED:20240131T154254Z
UID:10000011-1708128000-1708300799@www.fysa.com
SUMMARY:ODP Sub-Regional Event (INVITE ONLY) – (M\, 2009-2012)
DESCRIPTION:
URL:https://www.fysa.com/event/odp-sub-regional-event-invite-only-m-2009-2012/
LOCATION:ChampionsGate Sports Complex\, Davenport\, FL\, 33896\, United States
END:VEVENT
BEGIN:VEVENT
DTSTART;TZID=UTC:20240218T090000
DTEND;TZID=UTC:20240218T110000
DTSTAMP:20260422T141511
CREATED:20240207T204337Z
LAST-MODIFIED:20240207T204610Z
UID:10000015-1708246800-1708254000@www.fysa.com
SUMMARY:U.S. Soccer Grassroots 7v7 Coaching Course - Port St. Lucie (Field Session)
DESCRIPTION:
URL:https://www.fysa.com/event/u-s-soccer-grassroots-7v7-coaching-course-port-st-lucie-field-session/
LOCATION:McChesney Park\, 1585 SW Cashmere Blvd\, Port St. Lucie\, FL\, 34986\, United States
CATEGORIES:Coaching Education
END:VEVENT
BEGIN:VEVENT
DTSTART;TZID=UTC:20240218T130000
DTEND;TZID=UTC:20240218T150000
DTSTAMP:20260422T141511
CREATED:20240207T204750Z
LAST-MODIFIED:20240207T204750Z
UID:10000016-1708261200-1708268400@www.fysa.com
SUMMARY:U.S. Soccer Grassroots 11v11 Coaching Course - Port St. Lucie (Field Session)
DESCRIPTION:
URL:https://www.fysa.com/event/u-s-soccer-grassroots-11v11-coaching-course-port-st-lucie-field-session/
LOCATION:McChesney Park\, 1585 SW Cashmere Blvd\, Port St. Lucie\, FL\, 34986\, United States
CATEGORIES:Coaching Education
END:VEVENT
END:VCALENDAR