BEGIN:VCALENDAR
VERSION:2.0
PRODID:-//Florida Youth Soccer Association - ECPv6.15.17.1//NONSGML v1.0//EN
CALSCALE:GREGORIAN
METHOD:PUBLISH
X-WR-CALNAME:Florida Youth Soccer Association
X-ORIGINAL-URL:https://www.fysa.com
X-WR-CALDESC:Events for Florida Youth Soccer Association
REFRESH-INTERVAL;VALUE=DURATION:PT1H
X-Robots-Tag:noindex
X-PUBLISHED-TTL:PT1H
BEGIN:VTIMEZONE
TZID:UTC
BEGIN:STANDARD
TZOFFSETFROM:+0000
TZOFFSETTO:+0000
TZNAME:UTC
DTSTART:20240101T000000
END:STANDARD
END:VTIMEZONE
BEGIN:VEVENT
DTSTART;TZID=UTC:20251125T080000
DTEND;TZID=UTC:20251202T170000
DTSTAMP:20260425T124939
CREATED:20250922T204904Z
LAST-MODIFIED:20250922T204956Z
UID:10000121-1764057600-1764694800@www.fysa.com
SUMMARY:ODP International Trip - North England
DESCRIPTION:Nov. 25 – Dec. 2\, 2025\nODP International Trip:\nNorth England\nINVITE ONLY\n2012 AGE GROUP\nNorth England\, UK\nM/F\n2012
URL:https://www.fysa.com/event/odp-international-trip-north-england/
LOCATION:Manchester\, England
CATEGORIES:FYSA ODP
ATTACH;FMTTYPE=image/png:https://www.fysa.com/wp-content/uploads/sites/224/2023/12/odp_faqs_banner.png
END:VEVENT
END:VCALENDAR