BEGIN:VCALENDAR
VERSION:2.0
PRODID:-//Florida Youth Soccer Association - ECPv6.15.17.1//NONSGML v1.0//EN
CALSCALE:GREGORIAN
METHOD:PUBLISH
X-ORIGINAL-URL:https://www.fysa.com
X-WR-CALDESC:Events for Florida Youth Soccer Association
REFRESH-INTERVAL;VALUE=DURATION:PT1H
X-Robots-Tag:noindex
X-PUBLISHED-TTL:PT1H
BEGIN:VTIMEZONE
TZID:UTC
BEGIN:STANDARD
TZOFFSETFROM:+0000
TZOFFSETTO:+0000
TZNAME:UTC
DTSTART:20240101T000000
END:STANDARD
END:VTIMEZONE
BEGIN:VEVENT
DTSTART;TZID=UTC:20260207T080000
DTEND;TZID=UTC:20260208T170000
DTSTAMP:20260424T135537
CREATED:20250922T204647Z
LAST-MODIFIED:20250922T204647Z
UID:10000120-1770451200-1770570000@www.fysa.com
SUMMARY:ODP Pool Training - Lake Myrtle Sports Complex
DESCRIPTION:Feb. 7-8\, 2026\nODP Pool Training\nPOOL PLAYERS ONLY\nLake Myrtle Sports Complex\n2828 Lake Myrtle Park Rd\, Auburndale\, FL 33823\nM/F\n2009-2011\nSchedule (coming soon)\nField map
URL:https://www.fysa.com/event/odp-pool-training-lake-myrtle-sports-complex-2/
LOCATION:Lake Myrtle Sports Complex\, 2828 Lake Myrtle Park Rd\, Auburndale\, 33823\, United States
CATEGORIES:FYSA ODP
ATTACH;FMTTYPE=image/png:https://www.fysa.com/wp-content/uploads/sites/224/2023/12/odp_faqs_banner.png
END:VEVENT
BEGIN:VEVENT
DTSTART;TZID=UTC:20260124T080000
DTEND;TZID=UTC:20260125T170000
DTSTAMP:20260424T135537
CREATED:20250922T204437Z
LAST-MODIFIED:20250922T204524Z
UID:10000119-1769241600-1769360400@www.fysa.com
SUMMARY:ODP Pool Training - Kelly Road Soccer Complex
DESCRIPTION:Jan. 24-25\, 2026\nODP Pool Training\nPOOL PLAYERS ONLY\nKelly Road Soccer Complex\n10750 Kelly Rd\, Fort Myers\, FL 33908\nM\n2009-2014\nSchedule (coming soon)\nHotel Accommodations\nField Map
URL:https://www.fysa.com/event/odp-pool-training-kelly-road-soccer-complex-2/
LOCATION:Kelly Road Soccer Complex\, 10750 Kelly Rd\, Fort Myers\, FL\, 33908\, United States
CATEGORIES:FYSA ODP
ATTACH;FMTTYPE=image/png:https://www.fysa.com/wp-content/uploads/sites/224/2023/12/odp_faqs_banner.png
END:VEVENT
BEGIN:VEVENT
DTSTART;TZID=UTC:20260110T080000
DTEND;TZID=UTC:20260111T170000
DTSTAMP:20260424T135537
CREATED:20250922T204241Z
LAST-MODIFIED:20250922T204241Z
UID:10000118-1768032000-1768150800@www.fysa.com
SUMMARY:ODP Pool Training - Kelly Road Soccer Complex
DESCRIPTION:Jan. 10-11\, 2026\n*updated*\nODP Pool Training\nPOOL PLAYERS ONLY\nKelly Road Soccer Complex\n10750 Kelly Rd\, Fort Myers\, FL 33908\nF\n2009-2014\nSchedule (coming soon)\nHotel Accommodations\nField Map
URL:https://www.fysa.com/event/odp-pool-training-kelly-road-soccer-complex/
LOCATION:Kelly Road Soccer Complex\, 10750 Kelly Rd\, Fort Myers\, FL\, 33908\, United States
CATEGORIES:FYSA ODP
ATTACH;FMTTYPE=image/png:https://www.fysa.com/wp-content/uploads/sites/224/2023/12/odp_faqs_banner.png
END:VEVENT
BEGIN:VEVENT
DTSTART;TZID=UTC:20251220T080000
DTEND;TZID=UTC:20251221T170000
DTSTAMP:20260424T135537
CREATED:20250922T203959Z
LAST-MODIFIED:20250922T203959Z
UID:10000117-1766217600-1766336400@www.fysa.com
SUMMARY:ODP Pool Training - Mitchell Ellington Park
DESCRIPTION:Dec. 20-21\, 2025\n*updated*\nODP Pool Training\nPOOL PLAYERS ONLY\nMitchell Ellington Park\n575 W Hall Rd\, Merritt Island\, FL 32953\nF\n2009-2014\nSchedule (coming soon)\nField Map
URL:https://www.fysa.com/event/odp-pool-training-mitchell-ellington-park-2/
LOCATION:Mitchell Ellington Park\, 575 W Hall Rd\, Merritt Island\, FL\, 32953\, United States
CATEGORIES:FYSA ODP
ATTACH;FMTTYPE=image/png:https://www.fysa.com/wp-content/uploads/sites/224/2023/12/odp_faqs_banner.png
END:VEVENT
BEGIN:VEVENT
DTSTART;TZID=UTC:20251213T080000
DTEND;TZID=UTC:20251214T170000
DTSTAMP:20260424T135537
CREATED:20250922T203634Z
LAST-MODIFIED:20250922T203634Z
UID:10000116-1765612800-1765731600@www.fysa.com
SUMMARY:ODP Pool Training - Mitchell Ellington Park
DESCRIPTION:Dec. 13-14\, 2025\nODP Pool Training\nPOOL PLAYERS ONLY\nMitchell Ellington Park\n575 W Hall Rd\, Merritt Island\, FL 32953\nM\n2009-2014\nSchedule (coming soon)\nField Map
URL:https://www.fysa.com/event/odp-pool-training-mitchell-ellington-park/
LOCATION:Mitchell Ellington Park\, 575 W Hall Rd\, Merritt Island\, FL\, 32953\, United States
CATEGORIES:FYSA ODP
ATTACH;FMTTYPE=image/png:https://www.fysa.com/wp-content/uploads/sites/224/2023/12/odp_faqs_banner.png
END:VEVENT
BEGIN:VEVENT
DTSTART;TZID=UTC:20251101T080000
DTEND;TZID=UTC:20251102T170000
DTSTAMP:20260424T135537
CREATED:20250922T203453Z
LAST-MODIFIED:20250922T203453Z
UID:10000115-1761984000-1762102800@www.fysa.com
SUMMARY:ODP Pool Training - Lake Myrtle Sports Complex
DESCRIPTION:Nov. 1-2\, 2025\nODP Pool Training\nPOOL PLAYERS ONLY\nLake Myrtle Sports Complex\n2828 Lake Myrtle Park Rd\, Auburndale\, FL 33823\nM/F\n2012-2014\nSchedule (coming soon)\nField Map (coming soon)
URL:https://www.fysa.com/event/odp-pool-training-lake-myrtle-sports-complex/
LOCATION:Lake Myrtle Sports Complex\, 2828 Lake Myrtle Park Rd\, Auburndale\, 33823\, United States
CATEGORIES:FYSA ODP
ATTACH;FMTTYPE=image/png:https://www.fysa.com/wp-content/uploads/sites/224/2023/12/odp_faqs_banner.png
END:VEVENT
END:VCALENDAR