BEGIN:VCALENDAR
VERSION:2.0
PRODID:-//Florida Youth Soccer Association - ECPv6.15.17.1//NONSGML v1.0//EN
CALSCALE:GREGORIAN
METHOD:PUBLISH
X-WR-CALNAME:Florida Youth Soccer Association
X-ORIGINAL-URL:https://www.fysa.com
X-WR-CALDESC:Events for Florida Youth Soccer Association
REFRESH-INTERVAL;VALUE=DURATION:PT1H
X-Robots-Tag:noindex
X-PUBLISHED-TTL:PT1H
BEGIN:VTIMEZONE
TZID:UTC
BEGIN:STANDARD
TZOFFSETFROM:+0000
TZOFFSETTO:+0000
TZNAME:UTC
DTSTART:20240101T000000
END:STANDARD
END:VTIMEZONE
BEGIN:VEVENT
DTSTART;VALUE=DATE:20250416
DTEND;VALUE=DATE:20250420
DTSTAMP:20260422T145025
CREATED:20250408T182854Z
LAST-MODIFIED:20250408T182854Z
UID:9236-1744761600-1745107199@www.fysa.com
SUMMARY:Easter International Cup
DESCRIPTION:The Easter International Cup is a prominent soccer tournament in the Orlando-Kissimmee area\, hosting teams from across the United States and internationally. Florida ODP will be participating in this event\, bringing a combined 2011-2012 girls’ team to compete in the U14 division! \n\n\n	Related
URL:https://www.fysa.com/event/easter-international-cup/
LOCATION:Seminole Soccer Complex\, 1900 Seminole Soccer Loop\, Sanford\, FL\, 32771\, United States
CATEGORIES:FYSA ODP
END:VEVENT
END:VCALENDAR